BEGIN:VCALENDAR
VERSION:2.0
PRODID:-//ChamberMaster//Event Calendar 2.0//EN
METHOD:PUBLISH
X-PUBLISHED-TTL:P3D
REFRESH-INTERVAL:P3D
CALSCALE:GREGORIAN
BEGIN:VEVENT
DTSTART:20020226T223000Z
DTEND:20020226T050000Z
X-MICROSOFT-CDO-ALLDAYEVENT:FALSE
SUMMARY:February 26 2002 General Membership Meeting
DESCRIPTION:
X-ALT-DESC;FMTTYPE=text/html:
LOCATION:Bramble Ridge Golf Course - Lakeland
UID:e.9593.48
SEQUENCE:3
DTSTAMP:20260423T050933Z
URL:https://builders.pcba.com/events/details/february-26-2002-general-membership-meeting-02-26-2002-48
END:VEVENT

END:VCALENDAR
