BEGIN:VCALENDAR
VERSION:2.0
PRODID:-//ChamberMaster//Event Calendar 2.0//EN
METHOD:PUBLISH
X-PUBLISHED-TTL:P3D
REFRESH-INTERVAL:P3D
CALSCALE:GREGORIAN
BEGIN:VEVENT
DTSTART:20040120T223000Z
DTEND:20040120T050000Z
X-MICROSOFT-CDO-ALLDAYEVENT:FALSE
SUMMARY:Jan. 04 GMM
DESCRIPTION:
X-ALT-DESC;FMTTYPE=text/html:
LOCATION:Harley Davidson
UID:e.9593.60
SEQUENCE:3
DTSTAMP:20260421T120155Z
URL:https://builders.pcba.com/events/details/jan-04-gmm-01-20-2004-60
END:VEVENT

END:VCALENDAR
