BEGIN:VCALENDAR
VERSION:2.0
PRODID:-//ChamberMaster//Event Calendar 2.0//EN
METHOD:PUBLISH
X-PUBLISHED-TTL:P3D
REFRESH-INTERVAL:P3D
CALSCALE:GREGORIAN
BEGIN:VEVENT
DTSTART:20030520T213000Z
DTEND:20030520T040000Z
X-MICROSOFT-CDO-ALLDAYEVENT:FALSE
SUMMARY:''Shop the Builders''
DESCRIPTION:
X-ALT-DESC;FMTTYPE=text/html:
LOCATION:Cleveland Heights Golf Club - Lakeland
UID:e.9593.54
SEQUENCE:3
DTSTAMP:20260422T022804Z
URL:https://builders.pcba.com/events/details/shop-the-builders-05-20-2003-54
END:VEVENT

END:VCALENDAR
